BEGIN:VCALENDAR
VERSION:2.0
PRODID:-//Ecosystem for Research Networking - ECPv6.15.20//NONSGML v1.0//EN
CALSCALE:GREGORIAN
METHOD:PUBLISH
X-WR-CALNAME:Ecosystem for Research Networking
X-ORIGINAL-URL:https://ern.ci
X-WR-CALDESC:Events for Ecosystem for Research Networking
REFRESH-INTERVAL;VALUE=DURATION:PT1H
X-Robots-Tag:noindex
X-PUBLISHED-TTL:PT1H
BEGIN:VTIMEZONE
TZID:America/New_York
BEGIN:DAYLIGHT
TZOFFSETFROM:-0500
TZOFFSETTO:-0400
TZNAME:EDT
DTSTART:20190310T070000
END:DAYLIGHT
BEGIN:STANDARD
TZOFFSETFROM:-0400
TZOFFSETTO:-0500
TZNAME:EST
DTSTART:20191103T060000
END:STANDARD
BEGIN:DAYLIGHT
TZOFFSETFROM:-0500
TZOFFSETTO:-0400
TZNAME:EDT
DTSTART:20200308T070000
END:DAYLIGHT
BEGIN:STANDARD
TZOFFSETFROM:-0400
TZOFFSETTO:-0500
TZNAME:EST
DTSTART:20201101T060000
END:STANDARD
BEGIN:DAYLIGHT
TZOFFSETFROM:-0500
TZOFFSETTO:-0400
TZNAME:EDT
DTSTART:20210314T070000
END:DAYLIGHT
BEGIN:STANDARD
TZOFFSETFROM:-0400
TZOFFSETTO:-0500
TZNAME:EST
DTSTART:20211107T060000
END:STANDARD
END:VTIMEZONE
BEGIN:VEVENT
DTSTART;TZID=America/New_York:20200609T100000
DTEND;TZID=America/New_York:20200609T120000
DTSTAMP:20260422T111034
CREATED:20200511T201437Z
LAST-MODIFIED:20200520T191408Z
UID:10000055-1591696800-1591704000@ern.ci
SUMMARY:All-Hands Breakout Session 2: Cryo-EM
DESCRIPTION:Cryo-EM/ET is one of the research areas where gaining a deeper understanding of the workflows\,  research computing and data requirements\, collaborations\, and challenges will enable the ERN to have the broadest impact across multiple research disciplines\, pedagogical approaches\, senior level college and university administrators\, and other organizations within the region and beyond. We estimate that the Cryo-EM/Cryo-ET community in the Northeast comprises nearly 50 centers serving more than 800 laboratories from Pennsylvania to Maine. Applications of Cryo-EM span structural biology and material science. Single Particle Reconstruction information produced by these centers is producing transformative insights.  Given the cost and value of the instruments involved\, fast turnaround and efficient use of resources is key.  While all centers are well equipped to deliver images from prepared samples\, processing and storage of these images can present significant and unnecessary obstacles\, especially for labs that do not have easy access to computing resources and expertise. The Cryo-EM/Cryo-ET microscopy labs in the Northeast have formed a relatively tight knit community\, allowing for free flow of information and experience\, and reducing duplication of effort\, and accelerating the adoption of new techniques. This session will explore possibilities for extending this collaboration to include the community of Research Computing and Networking organizations that serve these labs and the broader impacts and to form a working group to focus on future workshops and content for the Mid-Scale proposal. 
URL:https://ern.ci/event/all-hands-breakout-session-2-cryo-em/
END:VEVENT
BEGIN:VEVENT
DTSTART;TZID=America/New_York:20200609T140000
DTEND;TZID=America/New_York:20200609T160000
DTSTAMP:20260422T111034
CREATED:20200511T201453Z
LAST-MODIFIED:20200605T140247Z
UID:10000056-1591711200-1591718400@ern.ci
SUMMARY:All-Hands Breakout Session 3: Materials Discovery
DESCRIPTION:Materials Discovery is one of the research areas where gaining a deeper understanding of the workflows\,  research computing and data requirements\, collaborations\, and challenges will enable the ERN to have the broadest impact across multiple research disciplines\, pedagogical approaches\, senior level college and university administrators\, and other organizations within the region and beyond. Researchers in materials discovery are realizing that their traditional data-intensive HPC workflows are reaching the limits of spatial and temporal scales required to make deeper insights and predictions. For this reason\, they are looking to new paradigms that include convergence of HPC and Machine Learning (ML) methodologies\, algorithm development\, and novel ways to access the data distributed across multiple institutions used in training systems as promising approaches to overcome the major computational performance limitations.  Materials Discovery offers an attractive testbed for advanced cyberinfrastructure of the sort the ERN can offer through future funding opportunities such as the Mid-Scale RI-1 program and DMREF. As with Cryo-EM/Cryo-ET\, this session will explore possibilities for extending collaborations to include other institutions as well as the community of Research Computing and Networking organizations and to form a working group to focus on future workshops and content for the Mid-Scale proposal.  
URL:https://ern.ci/event/all-hands-breakout-session-3-materials-discovery/
END:VEVENT
END:VCALENDAR