BEGIN:VCALENDAR
VERSION:2.0
PRODID:-//Ecosystem for Research Networking - ECPv6.15.20//NONSGML v1.0//EN
CALSCALE:GREGORIAN
METHOD:PUBLISH
X-WR-CALNAME:Ecosystem for Research Networking
X-ORIGINAL-URL:https://ern.ci
X-WR-CALDESC:Events for Ecosystem for Research Networking
REFRESH-INTERVAL;VALUE=DURATION:PT1H
X-Robots-Tag:noindex
X-PUBLISHED-TTL:PT1H
BEGIN:VTIMEZONE
TZID:America/New_York
BEGIN:DAYLIGHT
TZOFFSETFROM:-0500
TZOFFSETTO:-0400
TZNAME:EDT
DTSTART:20190310T070000
END:DAYLIGHT
BEGIN:STANDARD
TZOFFSETFROM:-0400
TZOFFSETTO:-0500
TZNAME:EST
DTSTART:20191103T060000
END:STANDARD
BEGIN:DAYLIGHT
TZOFFSETFROM:-0500
TZOFFSETTO:-0400
TZNAME:EDT
DTSTART:20200308T070000
END:DAYLIGHT
BEGIN:STANDARD
TZOFFSETFROM:-0400
TZOFFSETTO:-0500
TZNAME:EST
DTSTART:20201101T060000
END:STANDARD
BEGIN:DAYLIGHT
TZOFFSETFROM:-0500
TZOFFSETTO:-0400
TZNAME:EDT
DTSTART:20210314T070000
END:DAYLIGHT
BEGIN:STANDARD
TZOFFSETFROM:-0400
TZOFFSETTO:-0500
TZNAME:EST
DTSTART:20211107T060000
END:STANDARD
END:VTIMEZONE
BEGIN:VEVENT
DTSTART;TZID=America/New_York:20201210T000000
DTEND;TZID=America/New_York:20201211T235959
DTSTAMP:20260422T035611
CREATED:20201104T211649Z
LAST-MODIFIED:20201109T205836Z
UID:10000062-1607558400-1607731199@ern.ci
SUMMARY:ERN Broadening the Reach Virtual Workshop
DESCRIPTION:Many smaller\, mid-sized and under-resourced campuses\, including MSIs\, HSIs\, HBCUs\, and EPSCoR institutions\, have compelling science research and education activities along with an awareness of the benefits associated with better access to cyberinfrastructure resources. Yet\, these schools typically may not have the resources or expertise in-house to go through the process of identifying\, understanding and quantifying science drivers\, understanding the cyberinfrastructure needed to support the applications; and\, then provide both the technical and application support associated with matching the applications to the infrastructure\, particularly when the required resources are outside of their campus environment. \n\n\n\nWe invite you and colleagues at your institution to participate in the Eastern Regional Network’s (ERN) Broadening the Reach (BTR) Workshop December 10-11 (https://forms.gle/KY1out4urW5Hqykt6). The workshop is bringing together representatives (including CIOs and/or provosts\, vice presidents for research\, researchers\, educators\, and technical support staff) from the small\, mid-sized and under-resourced schools in the Northeast\, including MSIs\, HSIs\, HBCUs\, and EPSCoR institutions\,  along with regional (and national) cyberinfrastructure experts with the goal of improving the Eastern Regional Network’s understanding of how best to support under-resourced academic institutions in the region. To participate in the workshop\, please register here for the ERN Broadening the Reach workshop (https://forms.gle/KY1out4urW5Hqykt6) . \n\n\n\nWe also invite you and your colleagues to participate in the pre-workshop survey (https://delaware.ca1.qualtrics.com/jfe/form/SV_8wFAFke835Pi0Op)\, developed by the ERN BTR working group\, designed to help identify perceived challenges and opportunities at participating institutions\, and to use the knowledge from the survey to serve as a baseline framework for workshop discussion sessions. Only members of the ERN Broadening the Reach working group will have access to the information provided in response to survey questions\, and individual responses will be kept private and secure. Participants will have the opportunity to remain anonymous.  Please note\, please plan to take a few moments to complete the survey prior to the workshop and preferably by November 15\, even if you are not able to participate in the workshop\, your input is important to us. \n\n\n\nWe are seeking participation in the workshop and survey from each of the following areas: CIOs\, VPRs\, provosts\, researchers\, faculty\, and research computing and Central IT technical support staff. Please feel free to forward to appropriate members of your organization.  \n\n\n\nFor additional information about the workshop or survey\, please contact Forough.ghahramani@njedge.net or jhicks@internet2.edu.
URL:https://ern.ci/event/save-the-date-ern-broadening-the-reach-virtual-workshop/
END:VEVENT
END:VCALENDAR