BEGIN:VCALENDAR
VERSION:2.0
PRODID:-//Ecosystem for Research Networking - ECPv6.15.20//NONSGML v1.0//EN
CALSCALE:GREGORIAN
METHOD:PUBLISH
X-WR-CALNAME:Ecosystem for Research Networking
X-ORIGINAL-URL:https://ern.ci
X-WR-CALDESC:Events for Ecosystem for Research Networking
REFRESH-INTERVAL;VALUE=DURATION:PT1H
X-Robots-Tag:noindex
X-PUBLISHED-TTL:PT1H
BEGIN:VTIMEZONE
TZID:America/New_York
BEGIN:DAYLIGHT
TZOFFSETFROM:-0500
TZOFFSETTO:-0400
TZNAME:EDT
DTSTART:20200308T070000
END:DAYLIGHT
BEGIN:STANDARD
TZOFFSETFROM:-0400
TZOFFSETTO:-0500
TZNAME:EST
DTSTART:20201101T060000
END:STANDARD
BEGIN:DAYLIGHT
TZOFFSETFROM:-0500
TZOFFSETTO:-0400
TZNAME:EDT
DTSTART:20210314T070000
END:DAYLIGHT
BEGIN:STANDARD
TZOFFSETFROM:-0400
TZOFFSETTO:-0500
TZNAME:EST
DTSTART:20211107T060000
END:STANDARD
BEGIN:DAYLIGHT
TZOFFSETFROM:-0500
TZOFFSETTO:-0400
TZNAME:EDT
DTSTART:20220313T070000
END:DAYLIGHT
BEGIN:STANDARD
TZOFFSETFROM:-0400
TZOFFSETTO:-0500
TZNAME:EST
DTSTART:20221106T060000
END:STANDARD
END:VTIMEZONE
BEGIN:VEVENT
DTSTART;TZID=America/New_York:20210713T100000
DTEND;TZID=America/New_York:20210713T120000
DTSTAMP:20260421T185833
CREATED:20210603T130710Z
LAST-MODIFIED:20210701T192703Z
UID:10000070-1626170400-1626177600@ern.ci
SUMMARY:ERN Virtual All Hands - Opening Session
DESCRIPTION:The Eastern Regional Network (ERN)  has been very busy since our June 2020 All Hands Meeting and are excited about sharing all of the activities with you\, the ERN community. For this reason\, we are pleased to announce that this year’s ERN All Hands Meeting will take place virtually from July 13 – 15\, 2021.  You are invited to join with the ERN community as we come together to discuss current and future ERN projects\, collaborations and partnerships\, the five ERN Working Groups’ efforts\, future funding opportunities\, future workshops\, and other topics.  In addition\, we plan to invite  several NSF Program Officers to the All Hands Meeting as well as industry partners who have been involved with several of the ERN activities. \n\n\n\nPlease view the agenda here.
URL:https://ern.ci/event/ern-virtual-all-hands-meeting-opening-session/
END:VEVENT
BEGIN:VEVENT
DTSTART;TZID=America/New_York:20210713T140000
DTEND;TZID=America/New_York:20210713T160000
DTSTAMP:20260421T185833
CREATED:20210601T171208Z
LAST-MODIFIED:20210706T181519Z
UID:10000065-1626184800-1626192000@ern.ci
SUMMARY:ERN Virtual All Hands - Architecture/Federation Session
DESCRIPTION:Merging what we learned from the ERN working group meetings\, workshops\, and the community\, our goal for the ERN has evolved into building an instrument that interconnects the research instruments on our campuses through a federated private cloud platform (OpenCI Labs)\, a secure but open gateway to our campus CI ecosystems\, coupled with distributed specialized cloudlet nodes that provide near data computing and advanced networking capabilities placed within close proximity to a research instrument (edge cloud services). This ERN effort\, driven by the needs of the Structural Biology\, Materials Discovery\, and Computer Science and Broadening the Reach communities\, with the help from people representing all the major stakeholder groups and partner sites across the region and beyond\, is focused on standing up these secure services in order to revolutionize the way the research and education communities across the nation collaborate\, access research instruments\, and share data\, ultimately leading to new and exciting research and education endeavors. The purpose of this session is to share what we have learned since the last AHM\, instrument designs\, and future projects with the hope that\, as a community\, we find a path forward to realize the ERN vision and mission. \n\n\n\nPlease access the agenda here.
URL:https://ern.ci/event/ern-virtual-all-hands-architecture-federation-session/
END:VEVENT
END:VCALENDAR