BEGIN:VCALENDAR
VERSION:2.0
PRODID:-//Ecosystem for Research Networking - ECPv6.15.20//NONSGML v1.0//EN
CALSCALE:GREGORIAN
METHOD:PUBLISH
X-ORIGINAL-URL:https://ern.ci
X-WR-CALDESC:Events for Ecosystem for Research Networking
REFRESH-INTERVAL;VALUE=DURATION:PT1H
X-Robots-Tag:noindex
X-PUBLISHED-TTL:PT1H
BEGIN:VTIMEZONE
TZID:America/New_York
BEGIN:DAYLIGHT
TZOFFSETFROM:-0500
TZOFFSETTO:-0400
TZNAME:EDT
DTSTART:20200308T070000
END:DAYLIGHT
BEGIN:STANDARD
TZOFFSETFROM:-0400
TZOFFSETTO:-0500
TZNAME:EST
DTSTART:20201101T060000
END:STANDARD
BEGIN:DAYLIGHT
TZOFFSETFROM:-0500
TZOFFSETTO:-0400
TZNAME:EDT
DTSTART:20210314T070000
END:DAYLIGHT
BEGIN:STANDARD
TZOFFSETFROM:-0400
TZOFFSETTO:-0500
TZNAME:EST
DTSTART:20211107T060000
END:STANDARD
BEGIN:DAYLIGHT
TZOFFSETFROM:-0500
TZOFFSETTO:-0400
TZNAME:EDT
DTSTART:20220313T070000
END:DAYLIGHT
BEGIN:STANDARD
TZOFFSETFROM:-0400
TZOFFSETTO:-0500
TZNAME:EST
DTSTART:20221106T060000
END:STANDARD
END:VTIMEZONE
BEGIN:VEVENT
DTSTART;TZID=America/New_York:20211209T130000
DTEND;TZID=America/New_York:20211209T130000
DTSTAMP:20260421T114510
CREATED:20211026T185245Z
LAST-MODIFIED:20211027T124322Z
UID:10000071-1639054800-1639054800@ern.ci
SUMMARY:Enabling PROTEIN STRUCTURE PREDICTION with Artificial Intelligence at Rutgers and Beyond
DESCRIPTION:Thursday\, December 9th 2021 • 1:00 PM EST Registration (required and limited): go.rutgers.edu/dlqx9nfb \n\n\n\nClick here to view the agenda. \n\n\n\nLEARNING OBJECTIVES: \n\n\n\nThis Institute for Quantitative Biomedicine Crash Course will present a broad overview of how Artificial Intelligence/Machine Learning (AI/ML) methods are being used for de novo protein structure prediction and provide hands-on experience with both AlphaFold2 and RoseTTAFold.  \n\n\n\nCASP14 revealed that AlphaFold2\, developed by Google DeepMind\, Inc.\, can predict threedimensional structures of small globular proteins with accuracies comparable to experimental methods. RoseTTAFold\, developed at the University of Washington/Howard Hughes Medical Institute\, approaches AlphaFold2 in terms of prediction accuracy while requiring fewer computational resources.  \n\n\n\nIn this Crash Course\, expert speakers will provide a solid foundation on the role of AI/ML in structural biology and showcase ongoing research efforts at Rutgers. During the hands-on tutorial\, participants will learn how to utilize these new computational tools to compute structure models from amino acid sequences and download precomputed structure models from the AlphaFoldDB database. Local computing resources (Rutgers University Amarel Cluster) and access to Google Colab and the RoseTTAFold server will be made available during the hands-on session. \n\n\n\nCO-ORGANIZERS: \n\n\n\nBalamurugan Desinghu\, Ph.D. and Stephen K. Burley\, M.D.\, D.Phil. \n\n\n\nCO-Sponsors: RCSB Protein Data Bank\, Institute for Quantitative Biomedicine\, Rutgers Office of Advanced Research Computing (OARC)\, Office of Research
URL:https://ern.ci/event/enabling-protein-structure-prediction-with-artificial-intelligence-at-rutgers-and-beyond/
END:VEVENT
END:VCALENDAR