BEGIN:VCALENDAR
VERSION:2.0
PRODID:-//Ecosystem for Research Networking - ECPv6.15.20//NONSGML v1.0//EN
CALSCALE:GREGORIAN
METHOD:PUBLISH
X-ORIGINAL-URL:https://ern.ci
X-WR-CALDESC:Events for Ecosystem for Research Networking
REFRESH-INTERVAL;VALUE=DURATION:PT1H
X-Robots-Tag:noindex
X-PUBLISHED-TTL:PT1H
BEGIN:VTIMEZONE
TZID:America/New_York
BEGIN:DAYLIGHT
TZOFFSETFROM:-0500
TZOFFSETTO:-0400
TZNAME:EDT
DTSTART:20210314T070000
END:DAYLIGHT
BEGIN:STANDARD
TZOFFSETFROM:-0400
TZOFFSETTO:-0500
TZNAME:EST
DTSTART:20211107T060000
END:STANDARD
BEGIN:DAYLIGHT
TZOFFSETFROM:-0500
TZOFFSETTO:-0400
TZNAME:EDT
DTSTART:20220313T070000
END:DAYLIGHT
BEGIN:STANDARD
TZOFFSETFROM:-0400
TZOFFSETTO:-0500
TZNAME:EST
DTSTART:20221106T060000
END:STANDARD
BEGIN:DAYLIGHT
TZOFFSETFROM:-0500
TZOFFSETTO:-0400
TZNAME:EDT
DTSTART:20230312T070000
END:DAYLIGHT
BEGIN:STANDARD
TZOFFSETFROM:-0400
TZOFFSETTO:-0500
TZNAME:EST
DTSTART:20231105T060000
END:STANDARD
END:VTIMEZONE
BEGIN:VEVENT
DTSTART;TZID=America/New_York:20220204T140000
DTEND;TZID=America/New_York:20220204T170000
DTSTAMP:20260421T091318
CREATED:20220217T135831Z
LAST-MODIFIED:20220315T190228Z
UID:10000073-1643983200-1643994000@ern.ci
SUMMARY:"Intro to Python" Workshop
DESCRIPTION:EVENT RECORDING\n\n\n\n\n\n\n\n\nThis three-hour workshop focuses on learning the basics of python programming including data types\, conditionals\, functions\, and python in HPC environment. \n\n\n\n**NOTE** Just observing is welcome\, but to participate in hands-on activities\, you must have an Amarel account set up before the workshop. Please complete our web-based form at least 24 hours before the workshop (do this as soon as possible). \n\n\n\nIf you have questions or need help\, please contact Bala Desinghu. \n\n\n\nThis is a virtual event\, and it is free. Here is the registration link: https://oarc.rutgers.edu/event/intro-to-python-2-4-22/
URL:https://ern.ci/event/workshop-on-python-for-big-data-analytics/
END:VEVENT
END:VCALENDAR