BEGIN:VCALENDAR
VERSION:2.0
PRODID:-//Ecosystem for Research Networking - ECPv6.15.20//NONSGML v1.0//EN
CALSCALE:GREGORIAN
METHOD:PUBLISH
X-WR-CALNAME:Ecosystem for Research Networking
X-ORIGINAL-URL:https://ern.ci
X-WR-CALDESC:Events for Ecosystem for Research Networking
REFRESH-INTERVAL;VALUE=DURATION:PT1H
X-Robots-Tag:noindex
X-PUBLISHED-TTL:PT1H
BEGIN:VTIMEZONE
TZID:America/New_York
BEGIN:DAYLIGHT
TZOFFSETFROM:-0500
TZOFFSETTO:-0400
TZNAME:EDT
DTSTART:20210314T070000
END:DAYLIGHT
BEGIN:STANDARD
TZOFFSETFROM:-0400
TZOFFSETTO:-0500
TZNAME:EST
DTSTART:20211107T060000
END:STANDARD
BEGIN:DAYLIGHT
TZOFFSETFROM:-0500
TZOFFSETTO:-0400
TZNAME:EDT
DTSTART:20220313T070000
END:DAYLIGHT
BEGIN:STANDARD
TZOFFSETFROM:-0400
TZOFFSETTO:-0500
TZNAME:EST
DTSTART:20221106T060000
END:STANDARD
BEGIN:DAYLIGHT
TZOFFSETFROM:-0500
TZOFFSETTO:-0400
TZNAME:EDT
DTSTART:20230312T070000
END:DAYLIGHT
BEGIN:STANDARD
TZOFFSETFROM:-0400
TZOFFSETTO:-0500
TZNAME:EST
DTSTART:20231105T060000
END:STANDARD
END:VTIMEZONE
BEGIN:VEVENT
DTSTART;TZID=America/New_York:20220218T140000
DTEND;TZID=America/New_York:20220218T170000
DTSTAMP:20260421T091148
CREATED:20220314T185724Z
LAST-MODIFIED:20220314T185724Z
UID:10000077-1645192800-1645203600@ern.ci
SUMMARY:Workshop on “Python for Big Data Analytics”
DESCRIPTION:Python for Big Data Analytics (Webinar)   \n\n\n\n\nEVENT RECORDING\n\n\n\n\n\n\n\n\nThe workshop will review several techniques for addressing the challenges associated with big data analytics\, including vectorization\, parallelization\, just in time compilation\, and distributed task executions. By the end of the workshop\, the participants will be able to apply computational techniques for analyzing large volumes of data. \n\n\n\nThis workshop is hosted by Office of Advanced Research Computing(OARC)\, Rutgers University\, organized by Bala Desinghu in collaboration with our partners\, the Eastern Regional Network (ERN)\,  the Northeast Big Data Innovation Hub ( NEBD Hub)\, and the New Jersey Big Data Alliance (NJBDA). Participants are encouraged to attend with campus partners representing a variety of stakeholders for campus research and research computing (e.g.\, researchers\, research computing professionals\, students\, staff\, faculty\, and practitioners\, etc.). \n\n\n\nFor additional information\, feel free to contact bala.desinghu@rutgers.edu\, forough.ghahramani@njedge.net\, or gavirapp@kean.edu. \n\n\n\nAre you interested in learning data science and modern computational tools for your research?  If so\, come join our Data Science Workshop Series on topics including: Python Programming\, Machine Learning\, Distributed Machine Learning for Big Data\, and Deep Learning. \n\n\n\nRegistration is now open for the “Python for Big Data Analytics” hands-on workshop scheduled for Friday\,  Feb 18\, 2022 at 2.00 PM.  \n\n\n\nThis is a virtual event\, and it is free. Here is the registration link:https://www.eventbrite.com/e/269056564427
URL:https://ern.ci/event/workshop-on-python-for-big-data-analytics-2/
END:VEVENT
END:VCALENDAR