BEGIN:VCALENDAR
VERSION:2.0
PRODID:-//Ecosystem for Research Networking - ECPv6.15.20//NONSGML v1.0//EN
CALSCALE:GREGORIAN
METHOD:PUBLISH
X-ORIGINAL-URL:https://ern.ci
X-WR-CALDESC:Events for Ecosystem for Research Networking
REFRESH-INTERVAL;VALUE=DURATION:PT1H
X-Robots-Tag:noindex
X-PUBLISHED-TTL:PT1H
BEGIN:VTIMEZONE
TZID:America/New_York
BEGIN:DAYLIGHT
TZOFFSETFROM:-0500
TZOFFSETTO:-0400
TZNAME:EDT
DTSTART:20210314T070000
END:DAYLIGHT
BEGIN:STANDARD
TZOFFSETFROM:-0400
TZOFFSETTO:-0500
TZNAME:EST
DTSTART:20211107T060000
END:STANDARD
BEGIN:DAYLIGHT
TZOFFSETFROM:-0500
TZOFFSETTO:-0400
TZNAME:EDT
DTSTART:20220313T070000
END:DAYLIGHT
BEGIN:STANDARD
TZOFFSETFROM:-0400
TZOFFSETTO:-0500
TZNAME:EST
DTSTART:20221106T060000
END:STANDARD
BEGIN:DAYLIGHT
TZOFFSETFROM:-0500
TZOFFSETTO:-0400
TZNAME:EDT
DTSTART:20230312T070000
END:DAYLIGHT
BEGIN:STANDARD
TZOFFSETFROM:-0400
TZOFFSETTO:-0500
TZNAME:EST
DTSTART:20231105T060000
END:STANDARD
END:VTIMEZONE
BEGIN:VEVENT
DTSTART;TZID=America/New_York:20220606T000000
DTEND;TZID=America/New_York:20220608T235959
DTSTAMP:20260421T041413
CREATED:20220314T140051Z
LAST-MODIFIED:20220314T140051Z
UID:10000076-1654473600-1654732799@ern.ci
SUMMARY:4th GPU Hackathon at Princeton (Virtual)
DESCRIPTION:4th GPU Hackathon at Princeton (Virtual event)June 1\, 2022 (Prep day)June 6-8\, 2022 (Main event)Contact: Ma. Florevel (Floe) Fusin-Wischusen (floe@princeton.edu)https://gpuhackathons.org/event/princeton-gpu-hackathon-2022 \n\n\n\n \n\n\n\nDETAILS: \n\n\n\nGraphics Processing Units (GPUs) offer high performance andmassive parallelization\, but learning how to program GPUs forscientific applications can be daunting. \n\n\n\nTo help reduce the barrier to entry\, Princeton will host its4th annual GPU hackathon\, organized and sponsored by NVIDIA\,Oak Ridge Leadership Computing Facility (OLCF)\, andPrinceton Institute for Computational Science & Engineering(PICSciE). \n\n\n\nInterested research groups should apply to send a small teamof 3-6 developers who will be paired with experiencedmentors from industry and national laboratories in order tohelp migrate their code to GPUs and/or optimize codes alreadyrunning on GPUs. \n\n\n\nThe event will include a “prep day” of code profiling andpreliminaries followed by an intensive 3-day scrum. \n\n\n\n* Prior experience with programming GPUs is not required\, butparticipants will be encouraged to get an overview ofdifferent GPU programming paradigms prior to the hackathonvia training materials that will be provided in advance. \n\n\n\n* All fields are welcome\, from astrophysics tomachine learning to genomics. \n\n\n\n* Although Princeton and Princeton-area teams will be givenpriority\, a Princeton affiliation is not required\, so sharethis announcement to interested colleagues from neighboringinstitutions (partner GPU hackathons hosted in other parts ofthe US and the world are listed at gpuhackathons.org/events). \n\n\n\n* Prior hackathon participants are also welcome to apply butsuch teams should explicitly address in their applicationsthe additional value they hope to gain from attending thehackathon again. \n\n\n\n* Space is limited\, and applications will be reviewed forthe goodness of fit with the goals and resources of the hackathon(including the availability of appropriate mentors for agiven team). \n\n\n\n* Access to computing resources will be provided for theduration of the hackathon\, and there will be a virtualsocial event on one of the hackathon days.  \n\n\n\n* A guide for what to expect as an attendee can be found here: \n\n\n\nhttps://docs.google.com/document/d/1OpFlrThkxHV40wDUObBczLeChXTizKcrltFJJgZuZdM/edit \n\n\n\nApply Now! \n\n\n\nAPPLICATIONS MUST BE RECEIVED BY WEDNESDAY\, APRIL 13\, 2022for full consideration. \n\n\n\nOnce final teams are selected (by late April)\, the hackathonlanding page will be filled in with information includingadditional pre-event logistics. \n\n\n\nJunior Mentors Needed: \n\n\n\nIf you already have some GPU programming experience butdo not plan to submit an application\, and if you would likethe opportunity to spend a week working with and learning froma group of GPU experts\, email floe@princeton.edu.
URL:https://ern.ci/event/4th-gpu-hackathon-at-princeton-virtual/
END:VEVENT
END:VCALENDAR