BEGIN:VCALENDAR
VERSION:2.0
PRODID:-//Ecosystem for Research Networking - ECPv6.15.20//NONSGML v1.0//EN
CALSCALE:GREGORIAN
METHOD:PUBLISH
X-ORIGINAL-URL:https://ern.ci
X-WR-CALDESC:Events for Ecosystem for Research Networking
REFRESH-INTERVAL;VALUE=DURATION:PT1H
X-Robots-Tag:noindex
X-PUBLISHED-TTL:PT1H
BEGIN:VTIMEZONE
TZID:America/New_York
BEGIN:DAYLIGHT
TZOFFSETFROM:-0500
TZOFFSETTO:-0400
TZNAME:EDT
DTSTART:20210314T070000
END:DAYLIGHT
BEGIN:STANDARD
TZOFFSETFROM:-0400
TZOFFSETTO:-0500
TZNAME:EST
DTSTART:20211107T060000
END:STANDARD
BEGIN:DAYLIGHT
TZOFFSETFROM:-0500
TZOFFSETTO:-0400
TZNAME:EDT
DTSTART:20220313T070000
END:DAYLIGHT
BEGIN:STANDARD
TZOFFSETFROM:-0400
TZOFFSETTO:-0500
TZNAME:EST
DTSTART:20221106T060000
END:STANDARD
BEGIN:DAYLIGHT
TZOFFSETFROM:-0500
TZOFFSETTO:-0400
TZNAME:EDT
DTSTART:20230312T070000
END:DAYLIGHT
BEGIN:STANDARD
TZOFFSETFROM:-0400
TZOFFSETTO:-0500
TZNAME:EST
DTSTART:20231105T060000
END:STANDARD
END:VTIMEZONE
BEGIN:VEVENT
DTSTART;TZID=America/New_York:20220822T000000
DTEND;TZID=America/New_York:20220826T235959
DTSTAMP:20260421T063814
CREATED:20220712T132527Z
LAST-MODIFIED:20220712T133914Z
UID:10000081-1661126400-1661558399@ern.ci
SUMMARY:Introduction to Linux Cluster System Administration
DESCRIPTION:Linux Clusters Institute (LCI) workshopIntroduction to Linux Cluster System Administrationat Dartmouth College\, Hanover NHContact: Leslie Froeschl (lfroesh@illinois.edu)https://linuxclustersinstitute.org/2022-introductory-lci-workshop/ \nDETAILS: \nThe Linux Clusters Institute (LCI) will hold an Introductory-level workshop at Dartmouth College\, Hanover\, NH thisAugust 22-26\, 2022. \nhttps://linuxclustersinstitute.org/2022-introductory-lci-workshop/ \nRegistration rate through Fri July 15: $545Registration rate starting Sat July 16: $650 \nIf you are a Linux system administrator new to HPC\, this isthe workshop for you! \nIn just five days you will: \n* Learn HPC system administration concepts and technologiesand how to apply them \n* Get hands-on skills building a small test cluster in labsessions \n* Hear real-life stories and get to ask experts questions inpanel discussions \nRegister: \nhttps://appserv7.admin.uillinois.edu/FormBuilderSurvey/Survey/ncsa/lci/linux_clusters_institute_introductory_workshop/ \n(Click the “Fill out new form” button to start your registration.) \nRegistration includes breakfast and lunch each day! \nView tentative/draft schedule for the workshop: \nhttps://linuxclustersinstitute.org/2022-introductory-lci-workshop/2022-lci-introductory-workshop-schedule/ \nWorkshop location: \nDartmouth CollegeMonday-Wednesday:Haldeman Center 041\, Food in Haldeman Center 03129 N Main St\, Hanover\, NH 03755Thursday-Friday:Kemeny Hall 007 (Food in Haldeman Center 126)27 N Main St\, Hanover\, NH 03755 \nTravel/Lodging Information can be found at \nhttps://linuxclustersinstitute.org/2022-introductory-lci-workshop/2022-lci-introductory-workshop-travel-lodging-info/ \nThere is an option on the registration form to purchasea campus parking pass if you’ll be driving in for the workshop. \nContact Leslie Froeschl at lfroesh@illinois.edu with any questions!
URL:https://ern.ci/event/introduction-to-linux-cluster-system-administration/
END:VEVENT
END:VCALENDAR