BEGIN:VCALENDAR
VERSION:2.0
PRODID:-//Ecosystem for Research Networking - ECPv6.15.20//NONSGML v1.0//EN
CALSCALE:GREGORIAN
METHOD:PUBLISH
X-ORIGINAL-URL:https://ern.ci
X-WR-CALDESC:Events for Ecosystem for Research Networking
REFRESH-INTERVAL;VALUE=DURATION:PT1H
X-Robots-Tag:noindex
X-PUBLISHED-TTL:PT1H
BEGIN:VTIMEZONE
TZID:America/New_York
BEGIN:DAYLIGHT
TZOFFSETFROM:-0500
TZOFFSETTO:-0400
TZNAME:EDT
DTSTART:20210314T070000
END:DAYLIGHT
BEGIN:STANDARD
TZOFFSETFROM:-0400
TZOFFSETTO:-0500
TZNAME:EST
DTSTART:20211107T060000
END:STANDARD
BEGIN:DAYLIGHT
TZOFFSETFROM:-0500
TZOFFSETTO:-0400
TZNAME:EDT
DTSTART:20220313T070000
END:DAYLIGHT
BEGIN:STANDARD
TZOFFSETFROM:-0400
TZOFFSETTO:-0500
TZNAME:EST
DTSTART:20221106T060000
END:STANDARD
BEGIN:DAYLIGHT
TZOFFSETFROM:-0500
TZOFFSETTO:-0400
TZNAME:EDT
DTSTART:20230312T070000
END:DAYLIGHT
BEGIN:STANDARD
TZOFFSETFROM:-0400
TZOFFSETTO:-0500
TZNAME:EST
DTSTART:20231105T060000
END:STANDARD
END:VTIMEZONE
BEGIN:VEVENT
DTSTART;TZID=America/New_York:20221114T000000
DTEND;TZID=America/New_York:20221118T235959
DTSTAMP:20260421T101939
CREATED:20221111T141200Z
LAST-MODIFIED:20251003T145511Z
UID:10000085-1668384000-1668815999@ern.ci
SUMMARY:ERN @ SC22
DESCRIPTION:Attending SC22? \n\n\n\nSC22\, the International Conference for High Performance Computing\, Networking\, Storage\, and Analysis\, takes place November 14 – 18 in Dallas\, TX. \n\n\n\nFor those planning to attend\, ERN invites you to come and learn the latest about the ERN Cryo-EM Federated Instrument Pilot Project\, providing remote access to a transmission electron microscope (TEM) enabling the ability to remotely workflow starting with a sample to determining the structure.   \n\n\n\n Monday\, November 14\, from 1:30 – 5 PM\,  D555\n\n\n\n “The ERN Cryo-EM Federated Instrument Pilot Project: Phase 1” paper presentation.4th Annual Workshop on Extreme-Scale Experiment-in-the-Loop Computing (XLOOP).  (registration is required) \n\n\n\n Tuesday\, November 15 from 10:00 AM – 12 Noon\, and Wednesday\, November 16 from 3:15 PM – 5 PM\, Rutgers booth #305 \n\n\n\n Booth presentation with live demo access to TFS FIB Aquilos device  \n\n\n\n Exhibit Hall Hours: Massachusetts Green High Performance Computing Center(MGHPCC) booth #4101\, and Rutgers booth #305\n\n\n\n Short video demonstration of TFS Talos Atrica Transmission Electron Microscope workflow 
URL:https://ern.ci/event/ern-sc22/
LOCATION:University of Delaware
END:VEVENT
END:VCALENDAR