BEGIN:VCALENDAR
VERSION:2.0
PRODID:-//Ecosystem for Research Networking - ECPv6.15.20//NONSGML v1.0//EN
CALSCALE:GREGORIAN
METHOD:PUBLISH
X-WR-CALNAME:Ecosystem for Research Networking
X-ORIGINAL-URL:https://ern.ci
X-WR-CALDESC:Events for Ecosystem for Research Networking
REFRESH-INTERVAL;VALUE=DURATION:PT1H
X-Robots-Tag:noindex
X-PUBLISHED-TTL:PT1H
BEGIN:VTIMEZONE
TZID:America/New_York
BEGIN:DAYLIGHT
TZOFFSETFROM:-0500
TZOFFSETTO:-0400
TZNAME:EDT
DTSTART:20200308T070000
END:DAYLIGHT
BEGIN:STANDARD
TZOFFSETFROM:-0400
TZOFFSETTO:-0500
TZNAME:EST
DTSTART:20201101T060000
END:STANDARD
BEGIN:DAYLIGHT
TZOFFSETFROM:-0500
TZOFFSETTO:-0400
TZNAME:EDT
DTSTART:20210314T070000
END:DAYLIGHT
BEGIN:STANDARD
TZOFFSETFROM:-0400
TZOFFSETTO:-0500
TZNAME:EST
DTSTART:20211107T060000
END:STANDARD
BEGIN:DAYLIGHT
TZOFFSETFROM:-0500
TZOFFSETTO:-0400
TZNAME:EDT
DTSTART:20220313T070000
END:DAYLIGHT
BEGIN:STANDARD
TZOFFSETFROM:-0400
TZOFFSETTO:-0500
TZNAME:EST
DTSTART:20221106T060000
END:STANDARD
END:VTIMEZONE
BEGIN:VEVENT
DTSTART;TZID=America/New_York:20210211T130000
DTEND;TZID=America/New_York:20210211T160000
DTSTAMP:20260422T002733
CREATED:20210112T161012Z
LAST-MODIFIED:20210112T161326Z
UID:10000063-1613048400-1613059200@ern.ci
SUMMARY:ERN Structural Biology Voice of the Customer Virtual Workshop
DESCRIPTION:The Rutgers Institute for Quantitative Biomedicine and the Eastern Regional Network are co-organizing an online workshop to solicit feedback from electron microscopists and electron microscopy facility managers regarding their information technology (IT) challenges. The goal of our Voice of the Customer exercise is to ascertain the needs of this rapidly growing community of structural biologists for enumeration in an NSF Mid-scale Research Infrastructure-1 application (Program Solicitation NSF 21- 505\, Mid-scale RI-1). \n\n\n\nOur proposal seeks funds to establish robust federated IT data transfer networking and data management solutions among ERN-member institutions that will enable facile and secure online access to electron microscopy facilities and the large volumes of data generated therefrom. \n\n\n\nElectron microscopists and electron microscopy facility managers working in ERN-member institutions are strongly encouraged to register (at no cost) and contribute to the success of the Mid-scale RI-1 proposal by explaining current IT infrastructure pain points and helping to identify future enhancements for remote access and control of imaging experiments by structural biologists using institutional\, regional\, and national electron microscopy facilities. Interested parties from outside the ERN\, including ex-US institutions\, are similarly encouraged to register (at no cost) and participate. The ERN is committed to identifying IT infrastructure solutions that can be disseminated across the nation and around the world. \n\n\n\nTo participate in the ERN Structural Biology Voice of the Customer workshop\, please register here. The virtual meeting information will be emailed to the address you provide in the registration form.
URL:https://ern.ci/event/ern-structural-biology-voice-of-the-customer-virtual-workshop/
END:VEVENT
END:VCALENDAR