BEGIN:VCALENDAR
VERSION:2.0
PRODID:-//Ecosystem for Research Networking - ECPv6.15.20//NONSGML v1.0//EN
CALSCALE:GREGORIAN
METHOD:PUBLISH
X-ORIGINAL-URL:https://ern.ci
X-WR-CALDESC:Events for Ecosystem for Research Networking
REFRESH-INTERVAL;VALUE=DURATION:PT1H
X-Robots-Tag:noindex
X-PUBLISHED-TTL:PT1H
BEGIN:VTIMEZONE
TZID:America/New_York
BEGIN:DAYLIGHT
TZOFFSETFROM:-0500
TZOFFSETTO:-0400
TZNAME:EDT
DTSTART:20200308T070000
END:DAYLIGHT
BEGIN:STANDARD
TZOFFSETFROM:-0400
TZOFFSETTO:-0500
TZNAME:EST
DTSTART:20201101T060000
END:STANDARD
BEGIN:DAYLIGHT
TZOFFSETFROM:-0500
TZOFFSETTO:-0400
TZNAME:EDT
DTSTART:20210314T070000
END:DAYLIGHT
BEGIN:STANDARD
TZOFFSETFROM:-0400
TZOFFSETTO:-0500
TZNAME:EST
DTSTART:20211107T060000
END:STANDARD
BEGIN:DAYLIGHT
TZOFFSETFROM:-0500
TZOFFSETTO:-0400
TZNAME:EDT
DTSTART:20220313T070000
END:DAYLIGHT
BEGIN:STANDARD
TZOFFSETFROM:-0400
TZOFFSETTO:-0500
TZNAME:EST
DTSTART:20221106T060000
END:STANDARD
END:VTIMEZONE
BEGIN:VEVENT
DTSTART;TZID=America/New_York:20210713T100000
DTEND;TZID=America/New_York:20210713T120000
DTSTAMP:20260421T172153
CREATED:20210603T130710Z
LAST-MODIFIED:20210701T192703Z
UID:10000070-1626170400-1626177600@ern.ci
SUMMARY:ERN Virtual All Hands - Opening Session
DESCRIPTION:The Eastern Regional Network (ERN)  has been very busy since our June 2020 All Hands Meeting and are excited about sharing all of the activities with you\, the ERN community. For this reason\, we are pleased to announce that this year’s ERN All Hands Meeting will take place virtually from July 13 – 15\, 2021.  You are invited to join with the ERN community as we come together to discuss current and future ERN projects\, collaborations and partnerships\, the five ERN Working Groups’ efforts\, future funding opportunities\, future workshops\, and other topics.  In addition\, we plan to invite  several NSF Program Officers to the All Hands Meeting as well as industry partners who have been involved with several of the ERN activities. \n\n\n\nPlease view the agenda here.
URL:https://ern.ci/event/ern-virtual-all-hands-meeting-opening-session/
END:VEVENT
BEGIN:VEVENT
DTSTART;TZID=America/New_York:20210713T140000
DTEND;TZID=America/New_York:20210713T160000
DTSTAMP:20260421T172153
CREATED:20210601T171208Z
LAST-MODIFIED:20210706T181519Z
UID:10000065-1626184800-1626192000@ern.ci
SUMMARY:ERN Virtual All Hands - Architecture/Federation Session
DESCRIPTION:Merging what we learned from the ERN working group meetings\, workshops\, and the community\, our goal for the ERN has evolved into building an instrument that interconnects the research instruments on our campuses through a federated private cloud platform (OpenCI Labs)\, a secure but open gateway to our campus CI ecosystems\, coupled with distributed specialized cloudlet nodes that provide near data computing and advanced networking capabilities placed within close proximity to a research instrument (edge cloud services). This ERN effort\, driven by the needs of the Structural Biology\, Materials Discovery\, and Computer Science and Broadening the Reach communities\, with the help from people representing all the major stakeholder groups and partner sites across the region and beyond\, is focused on standing up these secure services in order to revolutionize the way the research and education communities across the nation collaborate\, access research instruments\, and share data\, ultimately leading to new and exciting research and education endeavors. The purpose of this session is to share what we have learned since the last AHM\, instrument designs\, and future projects with the hope that\, as a community\, we find a path forward to realize the ERN vision and mission. \n\n\n\nPlease access the agenda here.
URL:https://ern.ci/event/ern-virtual-all-hands-architecture-federation-session/
END:VEVENT
BEGIN:VEVENT
DTSTART;TZID=America/New_York:20210714T100000
DTEND;TZID=America/New_York:20210714T120000
DTSTAMP:20260421T172153
CREATED:20210601T171455Z
LAST-MODIFIED:20210701T192029Z
UID:10000066-1626256800-1626264000@ern.ci
SUMMARY:ERN Virtual All Hands - Broadening the Reach Session
DESCRIPTION:The session aims to learn directly from smaller\, mid-sized and under-resourced campuses on the research infrastructure capability needs of the institutions – data\, supercomputers and/or other research equipment\, software\, and people. In addition\, the session will explore developing a skilled workforce to support advanced CI and research and the potential for the Eastern Regional Network (ERN) to provide the broader community access to ACI expertise\, resources\, tools\, events\, guidance\, data\, and collaboration opportunities. The goal is to bring together the community thought leaders to identify challenges\, opportunities\, collaboration opportunities\, and brainstorm on the ERN Implementation in collaboration with RENs to address the needs of smaller\, mid-sized and under-resourced campuses. Results of the workshop will also be used for planning the 2021-2022 ERN BTR Working Group workshops.  \n\n\n\nPlease view the agenda here.
URL:https://ern.ci/event/ern-virtual-all-hands-broadening-the-reach-session/
END:VEVENT
BEGIN:VEVENT
DTSTART;TZID=America/New_York:20210714T140000
DTEND;TZID=America/New_York:20210714T160000
DTSTAMP:20260421T172153
CREATED:20210601T171654Z
LAST-MODIFIED:20210706T181715Z
UID:10000067-1626271200-1626278400@ern.ci
SUMMARY:ERN Virtual All Hands - Policies Session
DESCRIPTION:The vision of the ERN is to simplify and incentivize multi-campus collaborations and partnerships throughout the nation and beyond that advance the frontiers of research\, pedagogy\, and innovation. In order to do this successfully the ERN needs to consider current university policies as well as engage with university administrations in developing a policy strategy to help us bring the vision to reality. This session aims to learn from the  ERN community the impact of federated and university policies and what considerations need to be taken into account as we create new policies and procedures designed to lower barriers that allow the ease of sharing knowledge\, data\, infrastructure\, and people. \n\n\n\nPlease view the agenda here.
URL:https://ern.ci/event/ern-all-hands-policies-session/
END:VEVENT
BEGIN:VEVENT
DTSTART;TZID=America/New_York:20210715T100000
DTEND;TZID=America/New_York:20210715T120000
DTSTAMP:20260421T172153
CREATED:20210601T173154Z
LAST-MODIFIED:20210715T123450Z
UID:10000068-1626343200-1626350400@ern.ci
SUMMARY:ERN Virtual All Hands - Structural Biology Session
DESCRIPTION:Cryo-EM/ET is one of the research areas where gaining a deeper understanding of the workflows\,  research computing and data requirements\, collaborations\, and challenges will enable the ERN to have the broadest impact across multiple research disciplines\, pedagogical approaches\, senior level college and university administrators\, and other organizations within the region and beyond. We estimate that the Cryo-EM/Cryo-ET community in the Northeast comprises nearly 50 centers serving more than 800 laboratories from Pennsylvania to Maine.  Single Particle Reconstruction information produced by these centers is producing transformative insights.  Given the cost and value of the instruments involved\, fast turnaround and efficient use of resources is key.  While all centers are well equipped to deliver images from prepared samples\, processing and storage of these images can present significant and unnecessary obstacles\, especially for labs that do not have easy access to computing resources and expertise. The Cryo-EM/Cryo-ET microscopy labs in the Northeast have formed a relatively tight knit community\, allowing for free flow of information and experience\, and reducing duplication of effort\, and accelerating the adoption of new techniques. This session will explore possibilities for extending this collaboration to include the community of Research Computing and Networking organizations that serve these labs and the broader impacts. \n\n\n\nPlease view the agenda here.
URL:https://ern.ci/event/ern-virtual-all-hands-structural-biology-session/
END:VEVENT
BEGIN:VEVENT
DTSTART;TZID=America/New_York:20210715T140000
DTEND;TZID=America/New_York:20210715T160000
DTSTAMP:20260421T172153
CREATED:20210601T173417Z
LAST-MODIFIED:20210715T123419Z
UID:10000069-1626357600-1626364800@ern.ci
SUMMARY:ERN Virtual All Hands - Materials Discovery Session
DESCRIPTION:Materials Discovery is one of the research areas where gaining a deeper understanding of the workflows\,  research computing and data requirements\, collaborations\, and challenges will enable the ERN to have the broadest impact across multiple research disciplines\, pedagogical approaches\, senior level college and university administrators\, and other organizations within the region and beyond. Researchers in materials discovery are realizing their traditional data-intensive HPC workflows are reaching the limits of original progress. For this reason\, they are looking to new paradigms that include convergence of HPC and Machine Learning (ML) methodologies\, algorithm development\, and novel ways to access the data distributed across multiple institutions used in training systems as promising approaches to overcome the major computational performance limitations they are faced with.  Exploratory conversations with Penn State\, Rutgers\, SUNY Buffalo\, MIT\, and others suggest that Materials Discovery offers an attractive testbed for advanced cyberinfrastructure of the sort the ERN can offer through future funding opportunities such as the Mid-Scale RI-1 program. As with Cryo-EM/Cryo-ET\, this session will explore possibilities for extending collaborations to include other institutions as well as the community of Research Computing and Networking organizations. \n\n\n\nPlease view the agenda here.
URL:https://ern.ci/event/ern-virtual-all-hands-materials-discovery-session/
END:VEVENT
END:VCALENDAR