BEGIN:VCALENDAR
VERSION:2.0
PRODID:-//Ecosystem for Research Networking - ECPv6.15.20//NONSGML v1.0//EN
CALSCALE:GREGORIAN
METHOD:PUBLISH
X-WR-CALNAME:Ecosystem for Research Networking
X-ORIGINAL-URL:https://ern.ci
X-WR-CALDESC:Events for Ecosystem for Research Networking
REFRESH-INTERVAL;VALUE=DURATION:PT1H
X-Robots-Tag:noindex
X-PUBLISHED-TTL:PT1H
BEGIN:VTIMEZONE
TZID:America/New_York
BEGIN:DAYLIGHT
TZOFFSETFROM:-0500
TZOFFSETTO:-0400
TZNAME:EDT
DTSTART:20210314T070000
END:DAYLIGHT
BEGIN:STANDARD
TZOFFSETFROM:-0400
TZOFFSETTO:-0500
TZNAME:EST
DTSTART:20211107T060000
END:STANDARD
BEGIN:DAYLIGHT
TZOFFSETFROM:-0500
TZOFFSETTO:-0400
TZNAME:EDT
DTSTART:20220313T070000
END:DAYLIGHT
BEGIN:STANDARD
TZOFFSETFROM:-0400
TZOFFSETTO:-0500
TZNAME:EST
DTSTART:20221106T060000
END:STANDARD
BEGIN:DAYLIGHT
TZOFFSETFROM:-0500
TZOFFSETTO:-0400
TZNAME:EDT
DTSTART:20230312T070000
END:DAYLIGHT
BEGIN:STANDARD
TZOFFSETFROM:-0400
TZOFFSETTO:-0500
TZNAME:EST
DTSTART:20231105T060000
END:STANDARD
END:VTIMEZONE
BEGIN:VEVENT
DTSTART;TZID=America/New_York:20220902T130000
DTEND;TZID=America/New_York:20220902T140000
DTSTAMP:20260421T064136
CREATED:20220809T154205Z
LAST-MODIFIED:20220809T154206Z
UID:10000082-1662123600-1662127200@ern.ci
SUMMARY:CI Compass Webinar: Commercial Cloud Solutions with Bob Flynn
DESCRIPTION:CI Compass is pleased to announce its next installment in our webinar series: Commercial Cloud Solutions with Bob Flynn. This webinar will be held Friday\, September 2\, from 1 p.m. to 2 p.m. EST / 10 a.m. to 11 a.m. PST. Registration is free\, and required. Details for registration are below. \nThis webinar features Bob Flynn\, PM of Cloud Infrastructure & Platform Services at Internet2\, and Jarek Nabrzyski\, co-PI of CI Compass and founding director of the Center for Research Computing at the University of Notre Dame. \nInternet2 provides cloud solutions\, support for research\, and tailors services for Research and Education. \nIn this webinar\, Flynn and Nabrzyski will discuss the major aspects that need to be taken into consideration by scientists when they think about migrating to the cloud. \nLearn more about the event here: https://ci-compass.org/news-and-events/events/2022/09/02/ci-compass-webinar-commercial-cloud-solutions-with-bob-flynn/ \nRegister and add to your digital calendar here: https://renci.zoom.us/meeting/register/tJYvdOuqrz0vEtTcRaUFVripiF2X0TH9fJUF
URL:https://ern.ci/event/ci-compass-webinar-commercial-cloud-solutions-with-bob-flynn/
END:VEVENT
BEGIN:VEVENT
DTSTART;TZID=America/New_York:20220919T000000
DTEND;TZID=America/New_York:20220923T235959
DTSTAMP:20260421T064136
CREATED:20220822T212031Z
LAST-MODIFIED:20220822T212349Z
UID:10000083-1663545600-1663977599@ern.ci
SUMMARY:HPEC '22
DESCRIPTION:The 26th Annual IEEE High Performance Extreme Computing Conference (HPEC ’22) will be held as a virtual conference on Sept. 19 – 23\, 2022. \nHPEC is the largest computing conference in New England and is the premier conference in the world on the convergence of High Performance and Embedded Computing serving a community interested in computing hardware\, software\, systems\, and applications where performance matters. \nREGISTER \nDistinguished speakers at this year’s meeting include: \n\nKeynote: Prof. Barbara Liskov (MIT Institute Professor & Turing Award Winner) – Reflections on a Career in Computer Science\nDr. Almadena Chtchelkanova (NSF) – The NSF Computing and Information Science and Engineering Landscape: A Look Forward\nBarry Greene (Akamai) – Welcome to CyberWar: Long Term Ramifications Unleashed by Russia’s War\nMaj. Michael Kanaan (USAF) – Making AI Real: Insights from the Lab to Operations\nDr. Piyush Mehrotra (NASA Advanced Supercomputing Chief) – HPC Matters! How Supercomputing Supports NASA’s Mission\nProf. Taylor Perron (MIT Geology & MacArthur Fellow) – Challenges in Geospatial Computing\nProf. Viktor Prasanna (USC EECE & CS) – GNN Acceleration on FPGAs\nDr. John Reynders (Neumora; Former CIO of Moderna Therapeutics & Celera Genomics) – Data-Driven Precision Neuroscience\nDr. Rob Schreiber (Cerebras Distinguished Engineer) – New Frontiers in Performance at Wafer Scale\n\nwith Special Events \n\nMIT/Amazon/IEEE Graph Challenge\nGraphBLAS Forum to define standard building blocks for graph algorithms; organizers: Dr. Timothy Mattson (Intel); Dr. Scott McMillan (CMU SEI)\nSky Computing – Towards Efficient Computing on the Cloud; organizers: Marco Montes de Oca\, Luna Xu\, Erica Lin\, Suraj Bramhavar\, Jeffrey Chou (Sync Computing)\nTutorial: Exploring Graph Analysis for HPC with Near-Memory Accelerators; organizers: Jeffrey Young (Georgia Tech)\, Patrick Lavin (Georgia Tech)\, Jason Riedy (Lucata)\, Srinivas Eswar (Georgia Tech)\nTutorial: SPIRAL; organizers: Prof. Franz Franchetti and Mike Franusich\nRemote Sensing for Humanitarian Assistance & Disaster Relief; organizers: Dr. John Aldridge\, Dan Dumanis\, Andrew Weinert (MIT LL)\nHPSEC: High Performance Secure Extreme Computing; organizer: Dr. Michael Vai and Donato Kava (MIT LL)\nBRAIDS: Boosting Resilience through Artificial Intelligence and Decision Support; organizer: Dr. Courtland VanDam (MIT LL)\nBridging Quantum and High Performance Computing; organizer: Prof. Patrick Dreher (NC State Univ)\nScaling HPC Education; organizers: Dr. Julie Mullen (MIT LLSC)\,  Lauren Milechen (MIT EAPS)\, and Dr. Hayden Jananthan (MIT LLSC)\nAI Challenges; organizer: Dr. Vijay Gadepally (MIT LLSC)\nOpen SuperComputing forum; organizer: Kurt Keville (MIT LLSC)\n\nFor more information visit the EVENT WEBSITE. \n  \n  \n  \n 
URL:https://ern.ci/event/ci-compass-webinar-commercial-cloud-solutions-with-bob-flynn-copy/
END:VEVENT
END:VCALENDAR